BEGIN:VCALENDAR
VERSION:2.0
PRODID:-//Mairie de Saint-Philibert - ECPv6.15.20//NONSGML v1.0//EN
CALSCALE:GREGORIAN
METHOD:PUBLISH
X-ORIGINAL-URL:https://www.saintphilibert.fr
X-WR-CALDESC:Évènements pour Mairie de Saint-Philibert
REFRESH-INTERVAL;VALUE=DURATION:PT1H
X-Robots-Tag:noindex
X-PUBLISHED-TTL:PT1H
BEGIN:VTIMEZONE
TZID:Europe/Paris
BEGIN:DAYLIGHT
TZOFFSETFROM:+0100
TZOFFSETTO:+0200
TZNAME:CEST
DTSTART:20240331T010000
END:DAYLIGHT
BEGIN:STANDARD
TZOFFSETFROM:+0200
TZOFFSETTO:+0100
TZNAME:CET
DTSTART:20241027T010000
END:STANDARD
BEGIN:DAYLIGHT
TZOFFSETFROM:+0100
TZOFFSETTO:+0200
TZNAME:CEST
DTSTART:20250330T010000
END:DAYLIGHT
BEGIN:STANDARD
TZOFFSETFROM:+0200
TZOFFSETTO:+0100
TZNAME:CET
DTSTART:20251026T010000
END:STANDARD
BEGIN:DAYLIGHT
TZOFFSETFROM:+0100
TZOFFSETTO:+0200
TZNAME:CEST
DTSTART:20260329T010000
END:DAYLIGHT
BEGIN:STANDARD
TZOFFSETFROM:+0200
TZOFFSETTO:+0100
TZNAME:CET
DTSTART:20261025T010000
END:STANDARD
BEGIN:DAYLIGHT
TZOFFSETFROM:+0100
TZOFFSETTO:+0200
TZNAME:CEST
DTSTART:20270328T010000
END:DAYLIGHT
BEGIN:STANDARD
TZOFFSETFROM:+0200
TZOFFSETTO:+0100
TZNAME:CET
DTSTART:20271031T010000
END:STANDARD
END:VTIMEZONE
BEGIN:VEVENT
DTSTART;TZID=Europe/Paris:20260411T100000
DTEND;TZID=Europe/Paris:20260411T170000
DTSTAMP:20260423T185325
CREATED:20260303T112250Z
LAST-MODIFIED:20260303T112708Z
UID:15235-1775901600-1775926800@www.saintphilibert.fr
SUMMARY:JARDIN AU NATUREL 2026
DESCRIPTION:Rendez-vous le samedi 11 avril 2026 au jardin du Prado à Saint-Philibert pour une nouvelle édition du Jardin au Naturel ! \n  \nVendredi 10 avril – Parking du stade\n De 14h à 16h\, broyez vos végétaux avec les services techniques de la commune. Vous pourrez également récupérez du bon compost. \n  \nSamedi 11 avril – Jardin du Prado\nJARDINER\n\nAvec Anne-Marie\, Geneviève et Françoise (bénévoles)\, à la « gratiferia »\, échangez ou récupérez des plants\, des graines et des compétences sur les variétés (vous pouvez déposer vos plants le vendredi 04 avril de 16h à 18h au Prado).\nPiter (agent) répond à vos questions sur les « pratiques du jardin au naturel».\nAvec Kathy (pépinière Bourgeons d’Ici) prenez part à un « atelier greffage » et repartez avec votre arbre greffé. Vous pouvez apporter vos propres greffons si vous le souhaitez.\nAtelier à 11h sur inscription – durée 1h30 – 10 places – à partir de 7 ans.\n« Le bouturage»\, avec Piter et Marine : en prenant part à cet atelier\, vous aurez le plaisir d’apprendre à reproduire vos plantes !\nAtelier à 11h sur inscription – durée 1h – 6 places – à partir de 7 ans.\n\n  \nBIODIVERSIFIER \n\nGaëtan (agent)\, Philippe (bénévole) et la LPO (Ligue pour la Protection des Oiseaux) transmettent leurs savoir-faire pour accueillir la biodiversité au jardin. Échanger également sur « l’Atlas de Biodiversité Communale ».\nPrenez part à l’atelier de fabrication d’un « hôtel à insectes » avec Gaëtan (agent)\n2 ateliers (10h et 14h) sur inscription – durée 30min – 5 places par atelier – À partir de 10 ans\nDans une animation ludique « Les araignées du jardin»\, venez suivre les fils avec Jehanne (UFCV) et découvrir ces belles affreuses.\nTentez l’expérience du « Modelage » avec Emmanuelle (céramiste à Saint-Philibert) et réalisez un pot suspendu.\n2 ateliers (11h et 15h) sur inscription – durée 1h15– 6 places par atelier – famille\n\n  \nS’EMERVEILLER \n\nVenez à la rencontre de Maxence (association L’Abeille Buissonnière) au stand « abeilles et l’apiculture». Les abeilles s’inviteront à la fête avec la présence d’une ruche vitrée. Du matériel pédagogique vous permettra de mieux appréhender la vie de cet insecte et de comprendre comment nous obtenons certaines productions que vous pourrez déguster (miel\, pollen).\n« Du lézard au nombril de Venus\, tout ce qui court\, pousse et grimpe dans le muret de pierre sèche !» Cet atelier dessin\, proposé par Soizick et Sylvie\, est l’occasion de s’essayer\, seul ou en famille\, à croquer la faune et la flore de nos jardins !\nAtelier à 14h sur inscription – durée 1h30 – 10 places – à partir de 8 ans\n\n  \nSE BALADER\n\nRéveillez-vous dans les chemins autour du Prado. Anne vous emmènera dans une balade au titre évocateur « Petites croyances perdues pour une nature retrouvée».\nDépart 10h sur inscription – durée 1h30 – 20 places – famille\n\n  \nS’AMUSER\n\nDans la caravane animation\, la « médiathèque Le Chat Pitre» propose tout au long de la journée des jeux et des histoires avec Justine (agent) et Anne (bénévole)\, ainsi qu’une animation « graine d’histoires » pour les plus petits.\n11h – animation « Graine d’histoires » – sans réservation – jeunes enfants\nHélène (association L’écrit de joie\, des histoires plein la tête) vous propose un «L’atelier d’écriture » autour des mal-aimés du jardin !\nAtelier à 11h sur inscription – durée 1h30 – 8 places – adultes\nL’association Les Cuisiniers Solidaires vous invite à mettre vos épluchures dans vos assiettes en participant à l’atelier ludique pour toute la famille : «Cuisine des épluchures »\n2 ateliers (14h et 15h) sur inscription – durée 1h – 10 places par atelier – au Club House\n\n  \nPÉDALMIXER\n\nAvec l’association Les Cuisiniers Solidaires\, échangez sur la thématique de l’alimentation\, du gaspillage alimentaire et participez à l’atelier « vélo-jus» : découpe de fruits et légumes invendus bios et préparation de jus et smoothies en pédalant sur un vélo-mixeur !\n\n  \nSE RENCONTRER\n\nPour le plaisir d’être ensemble\, rendez-vous au café d’accueil\, à la dégustation de kéfir avec Hélène (agent)\, Jérôme et Erico (bénévoles)\, au stand « bar-crêpes » ou autour d’un burger avec La Friterie des Menhirs.\nAudrey\, Editions La Butineuse. Une maison d’édition 100% dédiée à la transition\, 100% indépendante et 100% apolitique. Sa ligne éditoriale repose sur un triptyque totalement indissociable et interconnecté que sont l’énergie\, l’eau et les sols. Son catalogue compte aujourd’hui 16 titres\, l’essentiel étant constitué d’essais\, mais aussi de la poésie\, des témoignages d’acteurs engagés ainsi qu’un album familial autour des fruits et légumes.\nXavier\, Mobil’affutage. En ce début de printemps\, c’est l’occasion de faire affuter ces outils. Xavier est rémouleur\, coutelier et affuteur.\n\n  \nPARTICIPATION AUX ATELIERS \nDe nombreux ateliers sont proposés dont certains sur inscription (places limitées). \nLes inscriptions se font en mairie\, au 02 97 30 07 00 ou à contact@stphilibert.fr\, puis sur place au stand « Accueil » s’il reste des places.
URL:https://www.saintphilibert.fr/evenement/jardin-au-naturel-2026/
LOCATION:Jardin du Prado\, Allée des Goëlands\, Saint-Philibert\, 56470
CATEGORIES:Animation
ATTACH;FMTTYPE=image/png:https://www.saintphilibert.fr/wp-content/uploads/2026/03/Affiche-web-Jardin-au-naturel.png
ORGANIZER;CN="Mairie de Saint-Philibert":MAILTO:contact@stphilibert.fr
END:VEVENT
BEGIN:VEVENT
DTSTART;TZID=Europe/Paris:20260402T170000
DTEND;TZID=Europe/Paris:20260402T190000
DTSTAMP:20260423T185325
CREATED:20260325T113206Z
LAST-MODIFIED:20260325T113206Z
UID:15297-1775149200-1775156400@www.saintphilibert.fr
SUMMARY:CINÉ-DOCS : LES PYRÉNÉES
DESCRIPTION:“PYRÉNÉES”\nDe l’Atlantique à la Méditerranée\nUn film de Jean-Luc Diquélou\n \nRésumé du film :\nVéritable barrière naturelle séparant la France et l’Espagne\, entre l’Atlantique et la Méditerranée\, les Pyrénées offrent des panoramas à couper le souffle. Sommets à plus de 3000 m\, lacs d’émeraude\, villages perdus dans la montagne\, traditions pastorales\, sanctuaire de vie sauvage où les vautours règnent en maître dans le ciel pyrénéen\, et l’ours continuant de faire débat… Une vraie merveille pour naturalistes\, randonneurs\, grimpeurs…\nComprendre les Pyrénées\, c’est arpenter le GR 10\, ce chemin de grande randonnée\, essayer de déchiffrer la haute montagne\, et flirter avec les cols révélés par le Tour de France…C’est aussi écouter ses habitants qui nous entraîneront dans leurs vallées\, et découvrir ce territoire marqué par sa géographie et son climat\, ses traditions et ses activités humaines. \nBiographie de l’auteur\nJean-Luc Diquélou se lance dans le documentaire en 1983. Sa première réalisation dépeint la vie d’avant-guerre du petit port breton « Ste Marine ». Suivront le Pays de Galles\, l’Ecosse\, le Pays Bigouden\, l’Irlande\, Londres\, la Bretagne.\nAvec les Pyrénées\, il se plonge dans un autre univers humain attachant. Une véritable complicité s’est développée avec la population\, lui permettant d’appréhender les cultures des différentes vallées.\nIl a été également organisateur du Festival du Film de Voyage et d’Aventure à Chartres de Bretagne\, et du Salon de la Randonnée & Tourisme Nature à Rennes.\nBande annonce du film “PYRENEES”: https://e.pcloud.link/publink/show?code=kZIjBOZo2OXwL8AXz52UsgwAaf4LSUlrKRk \nThèmes: \n· Pays Basque: Birialou – Sare – Ainoa – Espelette – La Rhune – St Jean de Port\n· Béarn: Vallée d’Aspe -Transhumance de Estive – Chemin de la mâture – Vallée d’Ossau\n· Hautes Pyrénnées: Lourdes – Cuterets – Gavarnie – Pyrénéisme et thermalisme – La Garbure\n· Ariège: Villages de montagne\n· Pays Catalan: Vernet les bains – Le Canigou – Banyuls sur Mer\nTarif unique : 6 €  \nPour réserver et payer vos places en ligne : https://www.payasso.fr/dasson/pyrenees\nLa billeterie ouvre à 16h30 sur place le 2 avril 2026 
URL:https://www.saintphilibert.fr/evenement/cine-docs-les-pyrenees/
LOCATION:Salle Le Mousker\, 7\, rue Jean-François Gouzer\, ST PHILIBERT\, 56470
CATEGORIES:Animation
ATTACH;FMTTYPE=image/jpeg:https://www.saintphilibert.fr/wp-content/uploads/2026/03/Unknown-1.jpeg
END:VEVENT
BEGIN:VEVENT
DTSTART;TZID=Europe/Paris:20260320T160000
DTEND;TZID=Europe/Paris:20260320T183000
DTSTAMP:20260423T185325
CREATED:20260218T140536Z
LAST-MODIFIED:20260218T140536Z
UID:15206-1774022400-1774031400@www.saintphilibert.fr
SUMMARY:PORTES OUVERTES ECOLES PIERRE JAKEZ HÉLIAS
DESCRIPTION:
URL:https://www.saintphilibert.fr/evenement/portes-ouvertes-ecoles-pierre-jakez-helias/
LOCATION:Ecole Pierre Jakez Hélias\, Impasse des Ecoles\, 56470
CATEGORIES:Enfance/jeunesse
ATTACH;FMTTYPE=image/png:https://www.saintphilibert.fr/wp-content/uploads/2026/02/Portes-ouvertes.png
END:VEVENT
BEGIN:VEVENT
DTSTART;TZID=Europe/Paris:20260307T150000
DTEND;TZID=Europe/Paris:20260307T180000
DTSTAMP:20260423T185325
CREATED:20260227T121121Z
LAST-MODIFIED:20260227T121121Z
UID:15228-1772895600-1772906400@www.saintphilibert.fr
SUMMARY:MÉLISCÈNES : LA GÉANTE À LA MÉDIATHÈQUE LE CHAT PITRE
DESCRIPTION:Dans le cadre de la 25ème édition du festival Méliscènes\, La Géante “Anouk” fera escale à la médiathèque Le Chat Pitre (et y passera même la nuit). Rendez-vous donc à tous à partir de 15h pour l’accueillir et participer aux animations : \n15h > Animation “Dessine ta géante” \n15h30 > Arrivée de la géante \n16h30 > Goûter \n17h > Histoires pour endormir la géante \nGratuit pour toute la famille !
URL:https://www.saintphilibert.fr/evenement/meliscenes-la-geante-a-la-mediatheque-le-chat-pitre/
LOCATION:Le Chat Pitre (médiathèque-ludothèque)
CATEGORIES:Animation
ATTACH;FMTTYPE=image/jpeg:https://www.saintphilibert.fr/wp-content/uploads/2026/02/1141-1772096985-67012@1200.jpg
END:VEVENT
BEGIN:VEVENT
DTSTART;TZID=Europe/Paris:20260305T170000
DTEND;TZID=Europe/Paris:20260305T193000
DTSTAMP:20260423T185325
CREATED:20260223T103238Z
LAST-MODIFIED:20260223T134056Z
UID:15212-1772730000-1772739000@www.saintphilibert.fr
SUMMARY:CINÉDOC : AUSTRALIE\, du grand ouest à la Tasmanie
DESCRIPTION:Un film de Jean Charbonneau et Dong Wei \nAventures en Australie sauvage\, à travers deux régions grandeur nature. L’Australie de l’Ouest\, le plus grand état\, son littoral paradisiaque et ses grandes étendues désertiques perforées de mines de fer et d’or. A l’opposé\, la Tasmanie est le plus petit état\, vert et vallonné où s’étend la dernière forêt primaire tempérée\, riche d’arbres grandioses et d’animaux rares comme le diable. Le dernier paradis. \nAprès 18 ans de voyages réguliers en Australie\, Jean Charbonneau et Dong Wei vous emmènent à la découverte d’une Australie moins connue\, plus sauvage\, grandiose. En Australie-Occidentale\, le plus grand état australien (5 fois la France) vous vivrez le rêve de grands espaces rouges\, semi désertiques\, d’un littoral paradisiaque et de curiosités naturelles uniques où se cachent les plus grandes mines de fer et d’or du monde. Perth en est la capitale\, jeune\, riche\, isolée. \nLa Tasmanie est le plus petit état australien\, et vous offre tout l’inverse : des paysages verdoyants\, vallonnés\, rafraichissants où grandissent les plus hauts arbres du monde\, cachant une faune extraordinaire\, telle que les wombats\, les pademelons et surtout les fameux diables. Une Suisse en Australie\, où se cultive les traditions et l’art de bien vivre. \n  \nDe l’Australie-Occidentale\, le plus grand état australien\, à la Tasmanie verte\, le plus petit.  \nL’Ouest sauvage\, du Pilbara rouge et sec\, aux récifs coraliens où transitent les requins-baleines. \nDu désert des Pinnacles au lac Ballard asséché\, sur la piste des prospecteurs d’or. \n De Kalgoorlie\, la plus grande mine d’or à la côte Sud-Ouest\, Wave Rock\, et les plus hautes forêts. \nL’île Rottnest\, Freemantle\, la ville branchée\, et Perth\, la capitale moderne la plus isolée du monde. \n  \nLa Tasmanie\, une mémoire douloureuse\, une histoire mouvementée et la nature grandiose. \nLa forêt primaire des plus hauts arbres du monde où se récolte un miel extraordinaire. \nUn trésor animalier bien préservé : potoroo\, pademelon\, wombat\, dasyurus\, et le fameux diable. \nUn grand tour de la Tasmanie littorale entre des îles paradisiaques et des falaises vertigineuses. \nL’esprit traditionnel “tassie”. La fête rétro d’Evandale et Hobart\, la petite capitale. \n  \n  \nTarif unique : 6€ \nBilletterie ouverte 30 min avant la séance. \ninfos et réservations : 06 83 83 96 33 – contact.dasson@gmail.com 
URL:https://www.saintphilibert.fr/evenement/cinedoc-australie-du-grand-ouest-a-la-tasmanie/
LOCATION:Salle Le Mousker\, 7\, rue Jean-François Gouzer\, ST PHILIBERT\, 56470
CATEGORIES:Animation
ATTACH;FMTTYPE=image/png:https://www.saintphilibert.fr/wp-content/uploads/2026/02/Affiche-A4-AUSTRALIE-III-2.png
END:VEVENT
BEGIN:VEVENT
DTSTART;TZID=Europe/Paris:20260125T100000
DTEND;TZID=Europe/Paris:20260125T180000
DTSTAMP:20260423T185325
CREATED:20260112T091304Z
LAST-MODIFIED:20260112T091304Z
UID:15089-1769335200-1769364000@www.saintphilibert.fr
SUMMARY:Lock & St Phil Games 2026 - Salon du jeu vidéo
DESCRIPTION:Le salon Lock & St Phil Games est organisé conjointement par les communes de Locmariaquer et Saint-Philibert\, en partenariat avec le service jeunesse de l’UFCV.\nCet événement a pour objectif de lutter contre les préjugés liés au jeu vidéo et de faire découvrir ses aspects culturels\, éducatifs et sociaux. \n🔹 Au programme :\n– Plus de 100 consoles de toutes générations\, des plus anciennes aux dernières nouveautés\n– Bornes d’arcade en accès libre\n– Tournois de jeux vidéo à 14h et 17h\n– Espace sensibilisation pour répondre à toutes vos questions sur les usages du numérique\n– Deux tables rondes animées par Agnès Merer\, coach en gestion des émotions : 11h30 et 16h30 > Thème : « Quelle importance peut avoir le sommeil dans la pratique des jeux vidéo ? » \nUn événement familial\, ludique et éducatif\, ouvert à toutes et tous. \n  \n> Consulter le programme
URL:https://www.saintphilibert.fr/evenement/lock-st-phil-games-2026-salon-du-jeu-video/
LOCATION:Salle Le Mousker\, 7\, rue Jean-François Gouzer\, ST PHILIBERT\, 56470
CATEGORIES:Animation
ATTACH;FMTTYPE=image/png:https://www.saintphilibert.fr/wp-content/uploads/2026/01/Lock-St-Phil-Games-2026.png
ORGANIZER;CN="UFCV":MAILTO:Jean-Michel BARBE
END:VEVENT
BEGIN:VEVENT
DTSTART;TZID=Europe/Paris:20251125T183000
DTEND;TZID=Europe/Paris:20251125T210000
DTSTAMP:20260423T185325
CREATED:20251106T145828Z
LAST-MODIFIED:20251106T145828Z
UID:15033-1764095400-1764104400@www.saintphilibert.fr
SUMMARY:APÉRO-TÉMOIGNAGES
DESCRIPTION:Projection\, lecture et débat autour du court-métrage Broken \nA l’occasion de la Journée internationale pour l’élimination des violences faites aux femmes (25 novembre)\, la Mairie de Saint-Philibert et Corps & Âmes vous invite à un apéro témoignage mêlant art\, parole et engagement.\nUne soirée pour réfléchir\, ressentir et échanger ensemble autour de la question des violences et des chemins de résilience. \nAu programme \n\nProjection du film Broken réalisé par Olivia N’Ganga et Mickael Dinic– un court-métrage sensible et percutant qui interroge sur la résilience et la reconstruction.\nLecture-témoignage par Danielle Paume\, dont le récit personnel viendra faire écho aux thématiques du film.\nDébat et échanges animés par Corps & Âmes\, en présence notamment de Pierre\, pour prolonger la réflexion collective autour des émotions et des expériences partagées.\n\nUne soirée pour tous \nOuverte à tous les publics\, cette rencontre se veut un moment convivial\, de parole libre et de bienveillance.\nChacun est invité à venir écouter\, ressentir et échanger autour d’un verre\, dans un cadre chaleureux. \n  \nGratuit
URL:https://www.saintphilibert.fr/evenement/apero-temoignages/
LOCATION:Club House
CATEGORIES:Animation
ATTACH;FMTTYPE=image/png:https://www.saintphilibert.fr/wp-content/uploads/2025/11/Affiche-apero-temoignages-25-nov-St-Philibert-2025.png
ORGANIZER;CN="Mairie de Saint-Philibert":MAILTO:contact@stphilibert.fr
END:VEVENT
BEGIN:VEVENT
DTSTART;TZID=Europe/Paris:20251106T170000
DTEND;TZID=Europe/Paris:20251106T190000
DTSTAMP:20260423T185325
CREATED:20251006T090838Z
LAST-MODIFIED:20251006T090838Z
UID:14959-1762448400-1762455600@www.saintphilibert.fr
SUMMARY:CINE-DOCS : COLOMBIE LA DANSE DES COULEURS
DESCRIPTION:Ce film célèbre les différentes facettes de la vie colombienne et présente les rythmes de l’histoire et de la culture de la Colombie\, ainsi que la variété de sa nature et de son environnement. Le réalisateur explore la vie quotidienne des Colombiens\, à travers les lumières et les ombres de leur vie urbaine et rurale dans des lieux moins connus qui sont des trésors cachés. De la cordillère des Andes\, des déserts de Tatacoa et de Guajira aux plages de la côte caribéenne\, l’auteur nous transporte dans un voyage parfois surprenant. La Colombie se dévoile sous un nouveau jour\, où les couleurs\, les sons et les mouvements fusionnent en une symphonie visuelle ; un appel à la découverte de la richesse de la culture colombienne et de la beauté de ses paysages. \n  \nTarifs : 8€ ou 6€ pour les adhérents de Dasson
URL:https://www.saintphilibert.fr/evenement/cine-docs-colombie-la-danse-des-couleurs/
LOCATION:Salle Le Mousker\, 7\, rue Jean-François Gouzer\, ST PHILIBERT\, 56470
CATEGORIES:Animation
ATTACH;FMTTYPE=image/jpeg:https://www.saintphilibert.fr/wp-content/uploads/2025/10/Unknown.jpeg
END:VEVENT
BEGIN:VEVENT
DTSTART;TZID=Europe/Paris:20251030T183000
DTEND;TZID=Europe/Paris:20251030T203000
DTSTAMP:20260423T185325
CREATED:20251013T154451Z
LAST-MODIFIED:20251013T154451Z
UID:14990-1761849000-1761856200@www.saintphilibert.fr
SUMMARY:RÉUNION PUBLIQUE : OBLIGATIONS LÉGALES DE DÉBROUSSAILLEMENT ET RISQUES INCENDIES FEUX DE FORÊT
DESCRIPTION:Réunion publique organisée à la salle le Mousker. \nNouvelle réglementation\, on vous explique tout !
URL:https://www.saintphilibert.fr/evenement/reunion-publique-obligations-legales-de-debroussaillement-et-risques-incendies-feux-de-foret/
LOCATION:Salle Le Mousker\, 7\, rue Jean-François Gouzer\, ST PHILIBERT\, 56470
CATEGORIES:Réunion publique
ATTACH;FMTTYPE=image/jpeg:https://www.saintphilibert.fr/wp-content/uploads/2025/10/Reunion-publique-OLD.jpg
ORGANIZER;CN="Mairie de Saint-Philibert":MAILTO:contact@stphilibert.fr
END:VEVENT
BEGIN:VEVENT
DTSTART;TZID=Europe/Paris:20251024T100000
DTEND;TZID=Europe/Paris:20251025T190000
DTSTAMP:20260423T185325
CREATED:20251002T131610Z
LAST-MODIFIED:20251022T085844Z
UID:14951-1761300000-1761418800@www.saintphilibert.fr
SUMMARY:LES ARTS DU MOT 2025
DESCRIPTION:Pour cette édition 2025\, Les Arts du Mot s’intéressent aux multiples façons de s’exprimer par les arts. Entre ateliers d’aquarelle\, sculpture\, Beatbox\, Yoga parent-enfant\, histoires pour les petits\, échanges sur les instruments de musique du monde\, spectacle d’ombres chinoises\, concert world et de nombreuses autres animations\, Les Arts du Mot ne manqueront pas une nouvelle fois de surprendre toutes les générations et de vous surprendre vous-même dans vos réalisations. \n  \n  \nVendredi 24 octobre \n10h – Salle Le Mousker \nAtelier : Aquarelle méditative / COMPLET\nPrenez part à cet atelier d’aquarelle méditative avec Marie Derennes\, entre créations individuelles et collectives. Une expérience douce et introspective où la couleur et l’eau vous inviteront à la détente\, à la pleine conscience et à l’expression créative. \nDurée : 2h30\n10 places max\nÀ partir de 9 ans\nGratuit sur inscription à mediatheque@stphilibert.fr ou au 02 97 30 08 08 \n  \n  \nVendredi 24 octobre \n10h30 – Médiathèque Le Chat Pitre \nL’heure des histoires \nLes tout-petits et leurs parents sont attendus pour une douce heure de lecture autour des émotions et des sentiments. \nDurée : 30min\nTous publics\nGratuit \n  \n  \nVendredi 24 octobre \n14h30 – Salle Le Mousker \nAtelier : sculpture « modelage » / COMPLET \nFaites jaillir une expression\, une émotion\, un sentiment par la modélisation d’un personnage avec de l’argile. Avec l’artiste Camille de Dumast\, vivez une expérience créative et sensorielle qui invite à l’intériorisation et à la reconnexion personnelle. S’en suivra un temps d’échange\, de rencontre entre les personnages réalisés par les participants pour créer de nouvelles connexions\, cette fois-ci collectives. \nDurée : 1h30\n30 places max\nÀ partir de 8 ans\nGratuit sur inscription à mediatheque@stphilibert.fr ou au 02 97 30 08 08 \n  \n  \nVendredi 24 octobre \n18h – Salle Le Mousker \nSpectacle d’ombres chinoises « Va Ma Lise » \nProduit par la compagnie Balala \nLise habite un immeuble. Du matin au soir\, elle chante en marchant\, en dansant\, en se lavant\, en jouant\, pour passer le temps\, pour parer à l’ennui quelquefois. Elle rêve d’un ailleurs et de découvrir le monde. Un soir\, Lise prend l’eau. C’est le grand départ. Le vent gonfle les voiles du navire\, l’air s’engouffre dans ses ailes et sa voix s’envole vers ailleurs. Une histoire sensible sur une enfant qui grandit et qui a envie de découvrir le monde. \nCe conte en ombre et en lumière va éveiller votre regard et vos oreilles\, que vous soyez petit ou grand. \nDurée : 45-50min\nSpectacle tous publics à partir de 3 ans\nGratuit – places limitées (100)\nInscriptions à mediatheque@stphilibert.fr ou au 02 97 30 08 08 \n  \n  \nSamedi 25 octobre \n10h et 11h – Salle Le Mousker \nAteliers : Yoga parent-enfant \nDes ateliers de yoga parent-enfant pour un moment de détente et de complicité en famille ! Autour d’un album qui éveillera l’imaginaire des plus jeunes\, Hélène diplômée en recherche pour le yoga dans l’éducation\, vous proposera de mettre en “corps” l’histoire choisie par des postures et des respirations avec votre enfant. \nDurée : 2 ateliers d’1h (6 couples parent-enfant par atelier)\n10h : enfants de 4 à 7 ans > Complet\n11h : enfants de 8 à 10 ans\nGratuit sur inscription à mediatheque@stphilibert.fr ou au 02 97 30 08 08\nMatériel non fourni. Apporter un tapis et une couverture par personne.  \n  \n  \nSamedi 25 octobre \nDe 14h à 17h30 – Salle Le Mousker \nAnimations pour tous ! \nLa salle Le Mousker se transforme en un espace aux multiples animations pour toute la famille\, entre atelier peinture\, murs d’expressions\, jeux de plateaux\, espace lecture\, stand maquillage\, librairie du Golfe et de nombreux autres ateliers proposés par la médiathèque. \nTous publics\nAccès libre de 14h à 17h30\nAnimations 100% gratuites \n  \n  \nSamedi 25 octobre \n14h30 – Salle Le Mousker \nAtelier : Présentation et échange public autour des instruments de musiques du monde \nRendez-vous avec Hocine\, artiste multiinstrumentiste\, qui vous présentera ses instruments de musiques du monde et leurs histoires (instruments qu’il a acquis lors de ses périples ou qu’il a lui-même construits). Un vrai moment de partage intergénérationnel qui vous fera voyager en musique et ravivera peut-être certains de vos souvenirs. \nDurée : 1h30\nTous publics\nGratuit \n  \n  \nSamedi 25 octobre \n15h30 – Salle Méaban \nAtelier : Initiation au beatbox \nVous souhaitez découvrir l’art du beatbox ? Avec Sousou\, artiste beatboxer depuis près de 20 ans\, partez à la découverte de cette technique vocale qui consiste à créer et imiter des sons avec la bouche. Dans cet atelier\, vous apprendrez les sons de base\, vous vous exercerez sous forme de jeux\, puis vous découvrirez la loopstation et les improvisations. En bonus\, Sousou clôturera cet atelier par une petite démonstration. \nDurée : 1h30\nÀ partir de 10 ans\n12 places max.\nGratuit sur inscription à mediatheque@stphilibert.fr ou au 02 97 30 08 08 \n  \n  \nSamedi 25 octobre \n17h30 – Salle Le Mousker \nConcert : Hocine (en duo) « Ville d’argent » \nPour clôturer cette édition 2025 des Arts du Mot\, Hocine présentera sur scène et en duo son dernier album « Ville d’Argent »\, sorti en juillet dernier. Un concert familial aux multiples univers musicaux (pop\, funk\, calypso\, manouche et transe gnawa)\, un live plein d’énergie\, un véritable hommage aux musiques subsahariennes\, de quoi vous apporter un bon vent de chaleur en cette période automnale. \nTous publics\nGratuit
URL:https://www.saintphilibert.fr/evenement/les-arts-du-mot-2025/
CATEGORIES:Animation
ATTACH;FMTTYPE=image/jpeg:https://www.saintphilibert.fr/wp-content/uploads/2025/10/Affiche-les-arts-du-mot-2025.jpg
ORGANIZER;CN="Mairie de Saint-Philibert":MAILTO:contact@stphilibert.fr
END:VEVENT
END:VCALENDAR